BEGIN:VCALENDAR
VERSION:2.0
PRODID:-//VICTORIA COMMUNITY CHURCH - ECPv5.0.0//NONSGML v1.0//EN
CALSCALE:GREGORIAN
METHOD:PUBLISH
X-WR-CALNAME:VICTORIA COMMUNITY CHURCH
X-ORIGINAL-URL:http://www.victoriacommunitychurch.org.uk
X-WR-CALDESC:Events for VICTORIA COMMUNITY CHURCH
BEGIN:VTIMEZONE
TZID:UTC
BEGIN:STANDARD
TZOFFSETFROM:+0000
TZOFFSETTO:+0000
TZNAME:UTC
DTSTART:20190101T000000
END:STANDARD
END:VTIMEZONE
BEGIN:VEVENT
DTSTART;TZID=UTC:20190806T100000
DTEND;TZID=UTC:20190806T113000
DTSTAMP:20260420T224100
CREATED:20180922T073037Z
LAST-MODIFIED:20190805T184529Z
UID:13558-1565085600-1565091000@www.victoriacommunitychurch.org.uk
SUMMARY:Coffee Morning Bible Study
DESCRIPTION: \n  \nCome and join us for a relaxed daytime Bible study each Tuesday morning from 10am – refreshments and a good conversation! \nA series of informal sessions exploring the Christian faith. Everyone’s welcome. \n
URL:http://www.victoriacommunitychurch.org.uk/event/coffee-morning-alpha-2018-11-06-2019-07-16/
LOCATION:VCC Hall\, 42a Newton Drive\, Blackpool\, Lancashire\, FY3 8BY\, United Kingdom
CATEGORIES:Bible Study,Chat,Coffee Morning,discussion,Informal,refreshments
ATTACH;FMTTYPE=image/jpeg:http://www.victoriacommunitychurch.org.uk/wp-content/uploads/2018/09/serveimage.jpeg
END:VEVENT
END:VCALENDAR