BEGIN:VCALENDAR
VERSION:2.0
PRODID:-//VICTORIA COMMUNITY CHURCH - ECPv5.0.0//NONSGML v1.0//EN
CALSCALE:GREGORIAN
METHOD:PUBLISH
X-WR-CALNAME:VICTORIA COMMUNITY CHURCH
X-ORIGINAL-URL:http://www.victoriacommunitychurch.org.uk
X-WR-CALDESC:Events for VICTORIA COMMUNITY CHURCH
BEGIN:VTIMEZONE
TZID:UTC
BEGIN:STANDARD
TZOFFSETFROM:+0000
TZOFFSETTO:+0000
TZNAME:UTC
DTSTART:20190101T000000
END:STANDARD
END:VTIMEZONE
BEGIN:VEVENT
DTSTART;TZID=UTC:20190108T101500
DTEND;TZID=UTC:20190108T123000
DTSTAMP:20260423T214022
CREATED:20180922T073037Z
LAST-MODIFIED:20190106T140908Z
UID:12079-1546942500-1546950600@www.victoriacommunitychurch.org.uk
SUMMARY:Coffee Morning Alpha
DESCRIPTION:  \n \nCome and join us for a daytime Alpha Course – refreshments\, a talk and a good conversation! \nAlpha is a series of informal sessions exploring the Christian faith. Each talk looks at a different question around faith and is designed to create conversation. Alpha is run all around the globe\, and everyone’s welcome. \n
URL:http://www.victoriacommunitychurch.org.uk/event/coffee-morning-alpha/2019-01-08/
LOCATION:VCC Hall\, 42a Newton Drive\, Blackpool\, Lancashire\, FY3 8BY\, United Kingdom
CATEGORIES:Alpha,Coffee Morning,discussion,refreshments
ATTACH;FMTTYPE=image/jpeg:http://www.victoriacommunitychurch.org.uk/wp-content/uploads/2018/09/AlphaPosterWeb3.jpg
END:VEVENT
END:VCALENDAR