BEGIN:VCALENDAR
VERSION:2.0
PRODID:-//VICTORIA COMMUNITY CHURCH - ECPv5.0.0//NONSGML v1.0//EN
CALSCALE:GREGORIAN
METHOD:PUBLISH
X-WR-CALNAME:VICTORIA COMMUNITY CHURCH
X-ORIGINAL-URL:http://www.victoriacommunitychurch.org.uk
X-WR-CALDESC:Events for VICTORIA COMMUNITY CHURCH
BEGIN:VTIMEZONE
TZID:UTC
BEGIN:STANDARD
TZOFFSETFROM:+0000
TZOFFSETTO:+0000
TZNAME:UTC
DTSTART:20170101T000000
END:STANDARD
END:VTIMEZONE
BEGIN:VEVENT
DTSTART;TZID=UTC:20171031T130000
DTEND;TZID=UTC:20171031T134500
DTSTAMP:20260423T230200
CREATED:20171024T123442Z
LAST-MODIFIED:20171024T123442Z
UID:10667-1509454800-1509457500@www.victoriacommunitychurch.org.uk
SUMMARY:Prayer Meeting
DESCRIPTION:Weekly prayer meeting each Tuesday from 1pm until 1:45pm. \n
URL:http://www.victoriacommunitychurch.org.uk/event/prayer-meeting/2017-10-31/
LOCATION:VCC Hall\, 42a Newton Drive\, Blackpool\, Lancashire\, FY3 8BY\, United Kingdom
CATEGORIES:Prayer
ATTACH;FMTTYPE=image/jpeg:http://www.victoriacommunitychurch.org.uk/wp-content/uploads/2017/10/PrayerMeeting.jpg
END:VEVENT
END:VCALENDAR