BEGIN:VCALENDAR
VERSION:2.0
PRODID:-//VICTORIA COMMUNITY CHURCH - ECPv5.0.0//NONSGML v1.0//EN
CALSCALE:GREGORIAN
METHOD:PUBLISH
X-WR-CALNAME:VICTORIA COMMUNITY CHURCH
X-ORIGINAL-URL:http://www.victoriacommunitychurch.org.uk
X-WR-CALDESC:Events for VICTORIA COMMUNITY CHURCH
BEGIN:VTIMEZONE
TZID:Europe/London
BEGIN:DAYLIGHT
TZOFFSETFROM:+0000
TZOFFSETTO:+0100
TZNAME:BST
DTSTART:20190331T010000
END:DAYLIGHT
BEGIN:STANDARD
TZOFFSETFROM:+0100
TZOFFSETTO:+0000
TZNAME:GMT
DTSTART:20191027T010000
END:STANDARD
END:VTIMEZONE
BEGIN:VEVENT
DTSTART;TZID=Europe/London:20190921T100000
DTEND;TZID=Europe/London:20190921T130000
DTSTAMP:20260421T010801
CREATED:20190310T174821Z
LAST-MODIFIED:20190908T174427Z
UID:13422-1569060000-1569070800@www.victoriacommunitychurch.org.uk
SUMMARY:Saturday Brunch Club
DESCRIPTION:Join us for a relaxing Saturday brunch\, a chat and some board games or pool. \n
URL:http://www.victoriacommunitychurch.org.uk/event/saturday-brunch-club/
LOCATION:VCC Hall\, 42a Newton Drive\, Blackpool\, Lancashire\, FY3 8BY\, United Kingdom
CATEGORIES:Brunch,Chat,Games,refreshments
ATTACH;FMTTYPE=image/jpeg:http://www.victoriacommunitychurch.org.uk/wp-content/uploads/2019/03/board-games.jpg
END:VEVENT
END:VCALENDAR