BEGIN:VCALENDAR
VERSION:2.0
PRODID:-//VICTORIA COMMUNITY CHURCH - ECPv5.0.0//NONSGML v1.0//EN
CALSCALE:GREGORIAN
METHOD:PUBLISH
X-WR-CALNAME:VICTORIA COMMUNITY CHURCH
X-ORIGINAL-URL:http://www.victoriacommunitychurch.org.uk
X-WR-CALDESC:Events for VICTORIA COMMUNITY CHURCH
BEGIN:VTIMEZONE
TZID:UTC
BEGIN:STANDARD
TZOFFSETFROM:+0000
TZOFFSETTO:+0000
TZNAME:UTC
DTSTART:20190101T000000
END:STANDARD
END:VTIMEZONE
BEGIN:VEVENT
DTSTART;TZID=UTC:20190906T100000
DTEND;TZID=UTC:20190906T123000
DTSTAMP:20260423T230420
CREATED:20170623T214537Z
LAST-MODIFIED:20200328T212408Z
UID:9408-1567764000-1567773000@www.victoriacommunitychurch.org.uk
SUMMARY:Table Tennis
DESCRIPTION:Table Tennis\nEvery Friday\nFrom 10:00am to 12:30pm\nRefreshments Available\n
URL:http://www.victoriacommunitychurch.org.uk/event/table-tennis-2018-07-06/2019-09-06/
LOCATION:VCC Hall\, 42a Newton Drive\, Blackpool\, Lancashire\, FY3 8BY\, United Kingdom
CATEGORIES:Entertainment
ATTACH;FMTTYPE=image/jpeg:http://www.victoriacommunitychurch.org.uk/wp-content/uploads/2017/06/table-tennis.jpg
END:VEVENT
END:VCALENDAR