BEGIN:VCALENDAR
VERSION:2.0
PRODID:-//VICTORIA COMMUNITY CHURCH - ECPv5.0.0//NONSGML v1.0//EN
CALSCALE:GREGORIAN
METHOD:PUBLISH
X-WR-CALNAME:VICTORIA COMMUNITY CHURCH
X-ORIGINAL-URL:http://www.victoriacommunitychurch.org.uk
X-WR-CALDESC:Events for VICTORIA COMMUNITY CHURCH
BEGIN:VTIMEZONE
TZID:UTC
BEGIN:STANDARD
TZOFFSETFROM:+0000
TZOFFSETTO:+0000
TZNAME:UTC
DTSTART:20190101T000000
END:STANDARD
END:VTIMEZONE
BEGIN:VEVENT
DTSTART;TZID=UTC:20190903T140000
DTEND;TZID=UTC:20190903T153000
DTSTAMP:20260421T145743
CREATED:20150705T052100Z
LAST-MODIFIED:20200328T212049Z
UID:9355-1567519200-1567524600@www.victoriacommunitychurch.org.uk
SUMMARY:The Tuesday Alternative
DESCRIPTION:The Tuesday Alternative\nJoin us for refreshments/cake and a fun quiz!\nGet to know some great people.\nAn informal afternoon for all!\nEvery Tuesday afternoon\n2pm – 3pm.\nWE LOOK FORWARD TO MEETING YOU!\n
URL:http://www.victoriacommunitychurch.org.uk/event/the-tuesday-alternative-2018-07-03/2019-09-03/
LOCATION:VCC Hall\, 42a Newton Drive\, Blackpool\, Lancashire\, FY3 8BY\, United Kingdom
CATEGORIES:Ministry
ATTACH;FMTTYPE=image/jpeg:http://www.victoriacommunitychurch.org.uk/wp-content/uploads/2015/07/coffee-1264121_960_720.jpg
END:VEVENT
END:VCALENDAR