BEGIN:VCALENDAR
VERSION:2.0
PRODID:-//VICTORIA COMMUNITY CHURCH - ECPv5.0.0//NONSGML v1.0//EN
CALSCALE:GREGORIAN
METHOD:PUBLISH
X-WR-CALNAME:VICTORIA COMMUNITY CHURCH
X-ORIGINAL-URL:https://www.victoriacommunitychurch.org.uk
X-WR-CALDESC:Events for VICTORIA COMMUNITY CHURCH
BEGIN:VTIMEZONE
TZID:UTC
BEGIN:STANDARD
TZOFFSETFROM:+0000
TZOFFSETTO:+0000
TZNAME:UTC
DTSTART:20170101T000000
END:STANDARD
END:VTIMEZONE
BEGIN:VEVENT
DTSTART;TZID=UTC:20171029T104500
DTEND;TZID=UTC:20171029T120000
DTSTAMP:20260417T150402
CREATED:20171010T100542Z
LAST-MODIFIED:20171010T100543Z
UID:10647-1509273900-1509278400@www.victoriacommunitychurch.org.uk
SUMMARY:Songs of Praise with guest speaker\, Ricky Leonard - 29th Oct @10.45am
DESCRIPTION:Ricky was born on a circus\, became a hippie in the 1960’s. Due to all the drugs and party life he ended up a demon-possessed young man\, totally whacked out. By the age of 19 he had been shot 3 times and inflicted injury upon many others. Just before his 20th birthday he was shot in the head by police! Ricky was then sent off to prison for 30 years. \nHe has had anything but a dull life! \nDuring his time in prison\, Ricky accepted the Lord Jesus\, was filled with the power of Holy Ghost and was totally and instantly healed from the effects of being shot in the head after praying a simple prayer of faith! He was paralyzed\, and had severe brain damage\, grand-mal epilepsy\, loss of motor skills and many more afflictions. \nSince his miraculous release from prison in 1981 Ricky has ministered all over the world. Reaching the unreached. \nEvery year tens of thousands come to Christ through Jungle Miracle Crusades\, Youth Crusades\, Medical Outreaches\, Fresh Water Well Projects\, youth ministry and various other ministries. We have seen many Muslim’s receive Jesus as their Lord. Multitudes have been healed from every kind of sickness known to mankind through the faith of this man of God; cancers have disappeared\, blind eyes have been open\, tumors vanish\, AIDS cured and the dead have been raised to life.” \nHe is ordained with Christ for the Nations Bible College in Dallas\, Texas (www.CFNI.org). RLM is also an affiliate ministry with CFNI to reach souls for Christ around the world. \n
URL:https://www.victoriacommunitychurch.org.uk/event/songs-of-praise-with-guest-speaker-ricky-leonard-29th-oct-10-45am/
LOCATION:42a Newton Drive\, Blackpool\, Lancashire\, FY3 8BY\, United Kingdom
CATEGORIES:Ministry,Prayer and Healing service
ATTACH;FMTTYPE=image/jpeg:https://www.victoriacommunitychurch.org.uk/wp-content/uploads/2017/10/Ricky-Leonard.jpg
END:VEVENT
END:VCALENDAR